BEGIN:VCALENDAR
VERSION:2.0
PRODID:calendify.com
BEGIN:VEVENT
UID:calendify-session-ekE43LYvOpd
DTSTART:20210310T181500Z
SEQUENCE:0
TRANSP:OPAQUE
DTEND:20210310T191500Z
URL:https://calendify.com/session/ekE43LYvOpd
LOCATION:Zoom Room 2B
SUMMARY:What has the Wikimedia movement to do with sustainability?
CLASS:PUBLIC
DESCRIPTION:https://calendify.com/session/ekE43LYvOpd
DTSTAMP:20260422T144050Z
CREATED:20210426T094927Z
LAST-MODIFIED:20210426T094927Z
END:VEVENT
END:VCALENDAR