BEGIN:VCALENDAR
VERSION:2.0
PRODID:calendify.com
BEGIN:VEVENT
UID:calendify-session-ekE43LdeOpd
DTSTART:20211227T203000Z
SEQUENCE:0
TRANSP:OPAQUE
DTEND:20211227T205000Z
URL:https://calendify.com/session/ekE43LdeOpd
LOCATION:ChaosZone TV
SUMMARY:Local Emission Framework - Klimaschutz vor deiner Haustür
CLASS:PUBLIC
DESCRIPTION:https://calendify.com/session/ekE43LdeOpd
DTSTAMP:20260420T153213Z
CREATED:20211220T014016Z
LAST-MODIFIED:20211230T225002Z
END:VEVENT
END:VCALENDAR