BEGIN:VCALENDAR
VERSION:2.0
PRODID:calendify.com
BEGIN:VEVENT
UID:calendify-session-ekE43Lv6Opd
DTSTART:20220206T113000Z
SEQUENCE:0
TRANSP:OPAQUE
DTEND:20220206T120000Z
URL:https://calendify.com/session/ekE43Lv6Opd
LOCATION:D.javascript
SUMMARY:React
CLASS:PUBLIC
DESCRIPTION:https://calendify.com/session/ekE43Lv6Opd
DTSTAMP:20260422T174445Z
CREATED:20220120T214608Z
LAST-MODIFIED:20220206T225004Z
END:VEVENT
END:VCALENDAR