BEGIN:VCALENDAR
VERSION:2.0
PRODID:calendify.com
BEGIN:VEVENT
UID:calendify-session-ekE43LxvOpd
DTSTART:20211230T173000Z
SEQUENCE:0
TRANSP:OPAQUE
DTEND:20211230T181800Z
URL:https://calendify.com/session/ekE43LxvOpd
LOCATION:rC3 Lounge
SUMMARY:Wiklund
CLASS:PUBLIC
DESCRIPTION:https://calendify.com/session/ekE43LxvOpd
DTSTAMP:20260420T124607Z
CREATED:20211227T155002Z
LAST-MODIFIED:20211230T225002Z
END:VEVENT
END:VCALENDAR