BEGIN:VCALENDAR
VERSION:2.0
PRODID:calendify.com
BEGIN:VEVENT
UID:calendify-session-ekE43LzdOpd
DTSTART:20220205T123000Z
SEQUENCE:0
TRANSP:OPAQUE
DTEND:20220205T125000Z
URL:https://calendify.com/session/ekE43LzdOpd
LOCATION:D.mariadb
SUMMARY:MariaDB Point-in-Time-Recovery
CLASS:PUBLIC
DESCRIPTION:https://calendify.com/session/ekE43LzdOpd
DTSTAMP:20260422T191354Z
CREATED:20220120T214603Z
LAST-MODIFIED:20220206T225002Z
END:VEVENT
END:VCALENDAR