BEGIN:VCALENDAR
VERSION:2.0
PRODID:calendify.com
BEGIN:VEVENT
UID:calendify-session-ekE43e67Mpd
DTSTART:20201228T110000Z
SEQUENCE:0
TRANSP:OPAQUE
DTEND:20201228T122000Z
URL:https://calendify.com/session/ekE43e67Mpd
LOCATION:r3s - Monheim/Rhein
SUMMARY:Playing with words
CLASS:PUBLIC
DESCRIPTION:https://calendify.com/session/ekE43e67Mpd
DTSTAMP:20260422T163911Z
CREATED:20201221T231541Z
LAST-MODIFIED:20211226T145803Z
END:VEVENT
END:VCALENDAR