BEGIN:VCALENDAR
VERSION:2.0
PRODID:calendify.com
BEGIN:VEVENT
UID:calendify-session-ekE43e77Mpd
DTSTART:20190921T214500Z
SEQUENCE:0
TRANSP:OPAQUE
DTEND:20190922T014500Z
URL:https://calendify.com/session/ekE43e77Mpd
LOCATION:Großer Saal
SUMMARY:Party
CLASS:PUBLIC
DESCRIPTION:https://calendify.com/session/ekE43e77Mpd
DTSTAMP:20260423T150004Z
CREATED:20200610T174346Z
LAST-MODIFIED:20200610T174346Z
END:VEVENT
END:VCALENDAR