BEGIN:VCALENDAR
VERSION:2.0
PRODID:calendify.com
BEGIN:VEVENT
UID:calendify-session-ekE43eoeMpd
DTSTART:20201228T180000Z
SEQUENCE:0
TRANSP:OPAQUE
DTEND:20201228T190000Z
URL:https://calendify.com/session/ekE43eoeMpd
LOCATION:KreaturWorks
SUMMARY:Bed Talk : Get in bed with Zentaipunks and extitutions
CLASS:PUBLIC
DESCRIPTION:https://calendify.com/session/ekE43eoeMpd
DTSTAMP:20260420T170609Z
CREATED:20201228T150348Z
LAST-MODIFIED:20210114T154804Z
END:VEVENT
END:VCALENDAR