BEGIN:VCALENDAR
VERSION:2.0
PRODID:calendify.com
BEGIN:VEVENT
UID:calendify-session-ekE43k3R4pd
DTSTART:20220609T160000Z
SEQUENCE:0
TRANSP:OPAQUE
DTEND:20220609T163000Z
URL:https://calendify.com/session/ekE43k3R4pd
LOCATION:Stage 2
SUMMARY:Vom Wert des Abwassers zur Sanitärwende
CLASS:PUBLIC
DESCRIPTION:https://calendify.com/session/ekE43k3R4pd
DTSTAMP:20260423T174722Z
CREATED:20220526T162947Z
LAST-MODIFIED:20220613T235204Z
END:VEVENT
END:VCALENDAR