BEGIN:VCALENDAR
VERSION:2.0
PRODID:calendify.com
BEGIN:VEVENT
UID:calendify-session-ekE43kDR4pd
DTSTART:20220608T114500Z
SEQUENCE:0
TRANSP:OPAQUE
DTEND:20220608T121500Z
URL:https://calendify.com/session/ekE43kDR4pd
LOCATION:Stage 3
SUMMARY:Is this Cyberwar?
CLASS:PUBLIC
DESCRIPTION:https://calendify.com/session/ekE43kDR4pd
DTSTAMP:20260423T150034Z
CREATED:20220526T162948Z
LAST-MODIFIED:20220613T235204Z
END:VEVENT
END:VCALENDAR