BEGIN:VCALENDAR
VERSION:2.0
PRODID:calendify.com
BEGIN:VEVENT
UID:calendify-session-ekE43kG64pd
DTSTART:20220206T150000Z
SEQUENCE:0
TRANSP:OPAQUE
DTEND:20220206T153000Z
URL:https://calendify.com/session/ekE43kG64pd
LOCATION:D.libreoffice
SUMMARY:Collabora Online: Async-Saving Design and Testing
CLASS:PUBLIC
DESCRIPTION:https://calendify.com/session/ekE43kG64pd
DTSTAMP:20260420T080604Z
CREATED:20220120T214608Z
LAST-MODIFIED:20220206T225004Z
END:VEVENT
END:VCALENDAR