BEGIN:VCALENDAR
VERSION:2.0
PRODID:calendify.com
BEGIN:VEVENT
UID:calendify-session-ekE43kK34pd
DTSTART:20220610T130000Z
SEQUENCE:0
TRANSP:OPAQUE
DTEND:20220610T133000Z
URL:https://calendify.com/session/ekE43kK34pd
LOCATION:Lightning Box 1
SUMMARY:Building a new vision for civic engagement
CLASS:PUBLIC
DESCRIPTION:https://calendify.com/session/ekE43kK34pd
DTSTAMP:20260423T161220Z
CREATED:20220526T162948Z
LAST-MODIFIED:20220613T235204Z
END:VEVENT
END:VCALENDAR