BEGIN:VCALENDAR
VERSION:2.0
PRODID:calendify.com
BEGIN:VEVENT
UID:calendify-session-ekE43kkv4pd
DTSTART:20161227T193000Z
SEQUENCE:0
TRANSP:OPAQUE
DTEND:20161227T203000Z
URL:https://calendify.com/session/ekE43kkv4pd
LOCATION:Saal 2
SUMMARY:Nintendo Hacking 2016
CLASS:PUBLIC
DESCRIPTION:https://calendify.com/session/ekE43kkv4pd
DTSTAMP:20260420T055020Z
CREATED:20220415T135302Z
LAST-MODIFIED:20220415T135302Z
END:VEVENT
END:VCALENDAR