BEGIN:VCALENDAR
VERSION:2.0
PRODID:calendify.com
BEGIN:VEVENT
UID:calendify-session-ekE43kql4pd
DTSTART:20151227T150000Z
SEQUENCE:0
TRANSP:OPAQUE
DTEND:20151227T160000Z
URL:https://calendify.com/session/ekE43kql4pd
LOCATION:Hall 2
SUMMARY:Hardware-Trojaner in Security-Chips
CLASS:PUBLIC
DESCRIPTION:https://calendify.com/session/ekE43kql4pd
DTSTAMP:20260421T020030Z
CREATED:20220415T142917Z
LAST-MODIFIED:20220415T142917Z
END:VEVENT
END:VCALENDAR