BEGIN:VCALENDAR
VERSION:2.0
PRODID:calendify.com
BEGIN:VEVENT
UID:calendify-session-ekE43kw34pd
DTSTART:20220609T153000Z
SEQUENCE:0
TRANSP:OPAQUE
DTEND:20220609T163000Z
URL:https://calendify.com/session/ekE43kw34pd
LOCATION:Meetup Blue
SUMMARY:re:learn Meet Up
CLASS:PUBLIC
DESCRIPTION:https://calendify.com/session/ekE43kw34pd
DTSTAMP:20260423T162033Z
CREATED:20220526T162949Z
LAST-MODIFIED:20220613T235204Z
END:VEVENT
END:VCALENDAR