BEGIN:VCALENDAR
VERSION:2.0
PRODID:calendify.com
BEGIN:VEVENT
UID:calendify-session-ekE43kxe4pd
DTSTART:20220608T170000Z
SEQUENCE:0
TRANSP:OPAQUE
DTEND:20220608T174500Z
URL:https://calendify.com/session/ekE43kxe4pd
LOCATION:Media Meetup
SUMMARY:Nachgefragt bei Bernhard Pörksen
CLASS:PUBLIC
DESCRIPTION:https://calendify.com/session/ekE43kxe4pd
DTSTAMP:20260423T203507Z
CREATED:20220526T162947Z
LAST-MODIFIED:20220613T235204Z
END:VEVENT
END:VCALENDAR