BEGIN:VCALENDAR
VERSION:2.0
PRODID:calendify.com
BEGIN:VEVENT
UID:calendify-session-ekE43lZ7Opd
DTSTART:20230609T120000Z
SEQUENCE:0
TRANSP:OPAQUE
DTEND:20230609T130000Z
URL:https://calendify.com/session/ekE43lZ7Opd
LOCATION:Anderswo
SUMMARY:Buchbinden - eine simple Methode
CLASS:PUBLIC
DESCRIPTION:https://calendify.com/session/ekE43lZ7Opd
DTSTAMP:20260422T170111Z
CREATED:20230527T091821Z
LAST-MODIFIED:20230611T215002Z
END:VEVENT
END:VCALENDAR