BEGIN:VCALENDAR
VERSION:2.0
PRODID:calendify.com
BEGIN:VEVENT
UID:calendify-session-ky1O750ngeQ
DTSTART:20231229T150000Z
SEQUENCE:0
TRANSP:OPAQUE
DTEND:20231229T160000Z
URL:https://calendify.com/session/ky1O750ngeQ
LOCATION:Saal Granville
SUMMARY:About Gamma-Ray Bursts And Boats
CLASS:PUBLIC
DESCRIPTION:https://calendify.com/session/ky1O750ngeQ
DTSTAMP:20260423T004056Z
CREATED:20231215T204820Z
LAST-MODIFIED:20240401T142932Z
END:VEVENT
END:VCALENDAR