BEGIN:VCALENDAR
VERSION:2.0
PRODID:calendify.com
BEGIN:VEVENT
UID:calendify-session-ky1O7568geQ
DTSTART:20231229T030000Z
SEQUENCE:0
TRANSP:OPAQUE
DTEND:20231229T040000Z
URL:https://calendify.com/session/ky1O7568geQ
LOCATION:Chillout Lounge
SUMMARY:Waldemar Frost (live)
CLASS:PUBLIC
DESCRIPTION:https://calendify.com/session/ky1O7568geQ
DTSTAMP:20260424T081331Z
CREATED:20231228T212002Z
LAST-MODIFIED:20240401T142932Z
END:VEVENT
END:VCALENDAR