BEGIN:VCALENDAR
VERSION:2.0
PRODID:calendify.com
BEGIN:VEVENT
UID:calendify-session-ky1O75B8geQ
DTSTART:20230714T140000Z
SEQUENCE:0
TRANSP:OPAQUE
URL:https://calendify.com/session/ky1O75B8geQ
LOCATION:Raum 3.10
SUMMARY:Goldschmiede
CLASS:PUBLIC
DESCRIPTION:https://calendify.com/session/ky1O75B8geQ
DTSTAMP:20260422T123942Z
CREATED:20230806T113150Z
LAST-MODIFIED:20230806T113150Z
END:VEVENT
END:VCALENDAR