BEGIN:VCALENDAR
VERSION:2.0
PRODID:calendify.com
BEGIN:VEVENT
UID:calendify-session-ky1O75G5geQ
DTSTART:20231228T170000Z
SEQUENCE:0
TRANSP:OPAQUE
DTEND:20231228T175000Z
URL:https://calendify.com/session/ky1O75G5geQ
LOCATION:Saal E
SUMMARY:Warum ist Skat so faszinierend?
CLASS:PUBLIC
DESCRIPTION:https://calendify.com/session/ky1O75G5geQ
DTSTAMP:20260421T044152Z
CREATED:20231221T182738Z
LAST-MODIFIED:20240401T142932Z
END:VEVENT
END:VCALENDAR