BEGIN:VCALENDAR
VERSION:2.0
PRODID:calendify.com
BEGIN:VEVENT
UID:calendify-session-ky1O75k5geQ
DTSTART:20231228T210000Z
SEQUENCE:0
TRANSP:OPAQUE
DTEND:20231228T214500Z
URL:https://calendify.com/session/ky1O75k5geQ
LOCATION:Sendezentrum Podcast Table (X12)
SUMMARY:damals(tm) Congressausgabe mit Hörern vor Ort
CLASS:PUBLIC
DESCRIPTION:https://calendify.com/session/ky1O75k5geQ
DTSTAMP:20260424T081541Z
CREATED:20231223T100103Z
LAST-MODIFIED:20240401T142932Z
END:VEVENT
END:VCALENDAR