BEGIN:VCALENDAR
VERSION:2.0
PRODID:calendify.com
BEGIN:VEVENT
UID:calendify-session-ky1O75oegeQ
DTSTART:20231229T013000Z
SEQUENCE:0
TRANSP:OPAQUE
DTEND:20231229T023000Z
URL:https://calendify.com/session/ky1O75oegeQ
LOCATION:Chillout Lounge
SUMMARY:cwiejung (live)
CLASS:PUBLIC
DESCRIPTION:https://calendify.com/session/ky1O75oegeQ
DTSTAMP:20260423T020340Z
CREATED:20231227T024002Z
LAST-MODIFIED:20240401T142932Z
END:VEVENT
END:VCALENDAR