BEGIN:VCALENDAR
VERSION:2.0
PRODID:calendify.com
BEGIN:VEVENT
UID:calendify-session-ky1O79DQgeQ
DTSTART:20191227T131000Z
SEQUENCE:0
TRANSP:OPAQUE
DTEND:20191227T141000Z
URL:https://calendify.com/session/ky1O79DQgeQ
LOCATION:Borg
SUMMARY:Vom Ich zum Wir
CLASS:PUBLIC
DESCRIPTION:https://calendify.com/session/ky1O79DQgeQ
DTSTAMP:20260424T182337Z
CREATED:20200429T014028Z
LAST-MODIFIED:20200429T014028Z
END:VEVENT
END:VCALENDAR