BEGIN:VCALENDAR
VERSION:2.0
PRODID:calendify.com
BEGIN:VEVENT
UID:calendify-session-ky1O7AQYgeQ
DTSTART:20220609T180000Z
SEQUENCE:0
TRANSP:OPAQUE
DTEND:20220609T190000Z
URL:https://calendify.com/session/ky1O7AQYgeQ
LOCATION:Workshop F
SUMMARY:Find Your Individual (Queer) Relationship Structure with The Unlabe
 led Group
CLASS:PUBLIC
DESCRIPTION:https://calendify.com/session/ky1O7AQYgeQ
DTSTAMP:20260419T133915Z
CREATED:20220526T162945Z
LAST-MODIFIED:20220613T235204Z
END:VEVENT
END:VCALENDAR