BEGIN:VCALENDAR
VERSION:2.0
PRODID:calendify.com
BEGIN:VEVENT
UID:calendify-session-ky1O7AV5geQ
DTSTART:20220610T144000Z
SEQUENCE:0
TRANSP:OPAQUE
DTEND:20220610T153000Z
URL:https://calendify.com/session/ky1O7AV5geQ
LOCATION:Stage 4
SUMMARY:Treffen sich ne Pandemie\, ne Klimakrise und ein Krieg - Den tägli
 chen Wahnsinn weglachen
CLASS:PUBLIC
DESCRIPTION:https://calendify.com/session/ky1O7AV5geQ
DTSTAMP:20260423T191547Z
CREATED:20220530T102805Z
LAST-MODIFIED:20220613T235205Z
END:VEVENT
END:VCALENDAR