BEGIN:VCALENDAR
VERSION:2.0
PRODID:calendify.com
BEGIN:VEVENT
UID:calendify-session-ky1O7AX2geQ
DTSTART:20220611T173000Z
SEQUENCE:0
TRANSP:OPAQUE
DTEND:20220611T180000Z
URL:https://calendify.com/session/ky1O7AX2geQ
LOCATION:The .txt Beach
SUMMARY:Computer-generierte Songtexte in der Popmusik
CLASS:PUBLIC
DESCRIPTION:https://calendify.com/session/ky1O7AX2geQ
DTSTAMP:20260423T095726Z
CREATED:20220526T162948Z
LAST-MODIFIED:20220613T235204Z
END:VEVENT
END:VCALENDAR