BEGIN:VCALENDAR
VERSION:2.0
PRODID:calendify.com
BEGIN:VEVENT
UID:calendify-session-ky1O7AqVgeQ
DTSTART:20220723T170000Z
SEQUENCE:0
TRANSP:OPAQUE
DTEND:20220723T175000Z
URL:https://calendify.com/session/ky1O7AqVgeQ
LOCATION:Clairvoyance 🔮
SUMMARY:HomeComputerMuseum\, the making\, the challenges and the importance
 .
CLASS:PUBLIC
DESCRIPTION:https://calendify.com/session/ky1O7AqVgeQ
DTSTAMP:20260424T020432Z
CREATED:20220620T212434Z
LAST-MODIFIED:20220726T182703Z
END:VEVENT
END:VCALENDAR