BEGIN:VCALENDAR
VERSION:2.0
PRODID:calendify.com
BEGIN:VEVENT
UID:calendify-session-ky1O7AwKgeQ
DTSTART:20220609T153000Z
SEQUENCE:0
TRANSP:OPAQUE
DTEND:20220609T160000Z
URL:https://calendify.com/session/ky1O7AwKgeQ
LOCATION:Lightning Box 2
SUMMARY:In-Cabin Futures: Travel Experiences Between The Physical & The Vir
 tual
CLASS:PUBLIC
DESCRIPTION:https://calendify.com/session/ky1O7AwKgeQ
DTSTAMP:20260421T160650Z
CREATED:20220605T230943Z
LAST-MODIFIED:20220613T235204Z
END:VEVENT
END:VCALENDAR