BEGIN:VCALENDAR
VERSION:2.0
PRODID:calendify.com
BEGIN:VEVENT
UID:calendify-session-ky1O7B3j4eQ
DTSTART:20200201T123000Z
SEQUENCE:0
TRANSP:OPAQUE
DTEND:20200201T125500Z
URL:https://calendify.com/session/ky1O7B3j4eQ
LOCATION:AW1.120
SUMMARY:Wikibase Ecosystem
CLASS:PUBLIC
DESCRIPTION:https://calendify.com/session/ky1O7B3j4eQ
DTSTAMP:20260423T171712Z
CREATED:20200513T234730Z
LAST-MODIFIED:20210426T093308Z
END:VEVENT
END:VCALENDAR