BEGIN:VCALENDAR
VERSION:2.0
PRODID:calendify.com
BEGIN:VEVENT
UID:calendify-session-ky1O7BL24eQ
DTSTART:20181227T195000Z
SEQUENCE:0
TRANSP:OPAQUE
DTEND:20181227T203000Z
URL:https://calendify.com/session/ky1O7BL24eQ
LOCATION:Borg
SUMMARY:What The Fax?!
CLASS:PUBLIC
DESCRIPTION:https://calendify.com/session/ky1O7BL24eQ
DTSTAMP:20260423T034918Z
CREATED:20200509T021800Z
LAST-MODIFIED:20200512T221856Z
END:VEVENT
END:VCALENDAR