BEGIN:VCALENDAR
VERSION:2.0
PRODID:calendify.com
BEGIN:VEVENT
UID:calendify-session-ky1O7BQj4eQ
DTSTART:20200201T110000Z
SEQUENCE:0
TRANSP:OPAQUE
DTEND:20200201T113000Z
URL:https://calendify.com/session/ky1O7BQj4eQ
LOCATION:AW1.126
SUMMARY:Spotlight on Free Software Building Blocks for a Secure Health Data
  Infrastructure
CLASS:PUBLIC
DESCRIPTION:https://calendify.com/session/ky1O7BQj4eQ
DTSTAMP:20260420T125118Z
CREATED:20200513T234730Z
LAST-MODIFIED:20210426T093308Z
END:VEVENT
END:VCALENDAR