BEGIN:VCALENDAR
VERSION:2.0
PRODID:calendify.com
BEGIN:VEVENT
UID:calendify-session-ky1O7BR84eQ
DTSTART:20180510T180000Z
SEQUENCE:0
TRANSP:OPAQUE
DTEND:20180510T210000Z
URL:https://calendify.com/session/ky1O7BR84eQ
LOCATION:Anderswo
SUMMARY:Eurovision Song Contest 2. Semifinal
CLASS:PUBLIC
DESCRIPTION:https://calendify.com/session/ky1O7BR84eQ
DTSTAMP:20260421T230000Z
CREATED:20200513T011827Z
LAST-MODIFIED:20200513T011827Z
END:VEVENT
END:VCALENDAR