BEGIN:VCALENDAR
VERSION:2.0
PRODID:calendify.com
BEGIN:VEVENT
UID:calendify-session-ky1O7BZY4eQ
DTSTART:20200201T105000Z
SEQUENCE:0
TRANSP:OPAQUE
DTEND:20200201T112500Z
URL:https://calendify.com/session/ky1O7BZY4eQ
LOCATION:UA2.118 (Henriot)
SUMMARY:Quantum computing hardware and control systems
CLASS:PUBLIC
DESCRIPTION:https://calendify.com/session/ky1O7BZY4eQ
DTSTAMP:20260422T203638Z
CREATED:20200513T234730Z
LAST-MODIFIED:20210426T093308Z
END:VEVENT
END:VCALENDAR