BEGIN:VCALENDAR
VERSION:2.0
PRODID:calendify.com
BEGIN:VEVENT
UID:calendify-session-ky1O7Bbx4eQ
DTSTART:20200201T093000Z
SEQUENCE:0
TRANSP:OPAQUE
DTEND:20200201T095000Z
URL:https://calendify.com/session/ky1O7Bbx4eQ
LOCATION:H.2213
SUMMARY:Designing and Producing Open Source Hardware with FOSS/OSHW tools
CLASS:PUBLIC
DESCRIPTION:https://calendify.com/session/ky1O7Bbx4eQ
DTSTAMP:20260420T201315Z
CREATED:20200513T234730Z
LAST-MODIFIED:20210426T093308Z
END:VEVENT
END:VCALENDAR