BEGIN:VCALENDAR
VERSION:2.0
PRODID:calendify.com
BEGIN:VEVENT
UID:calendify-session-ky1O7BxV4eQ
DTSTART:20200202T133000Z
SEQUENCE:0
TRANSP:OPAQUE
DTEND:20200202T140000Z
URL:https://calendify.com/session/ky1O7BxV4eQ
LOCATION:UB2.252A (Lameere)
SUMMARY:Uplift your Linux systems programming skills with systemd and D-Bus
CLASS:PUBLIC
DESCRIPTION:https://calendify.com/session/ky1O7BxV4eQ
DTSTAMP:20260421T194347Z
CREATED:20200513T234735Z
LAST-MODIFIED:20210426T093310Z
END:VEVENT
END:VCALENDAR