BEGIN:VCALENDAR
VERSION:2.0
PRODID:calendify.com
BEGIN:VEVENT
UID:calendify-session-ky1O7L5eMeQ
DTSTART:20210318T170000Z
SEQUENCE:0
TRANSP:OPAQUE
DTEND:20210318T180000Z
URL:https://calendify.com/session/ky1O7L5eMeQ
LOCATION:Zoom Room 6A
SUMMARY:The Joy Sanctuary
CLASS:PUBLIC
DESCRIPTION:https://calendify.com/session/ky1O7L5eMeQ
DTSTAMP:20260422T140911Z
CREATED:20210426T094929Z
LAST-MODIFIED:20210426T094929Z
END:VEVENT
END:VCALENDAR