BEGIN:VCALENDAR
VERSION:2.0
PRODID:calendify.com
BEGIN:VEVENT
UID:calendify-session-ky1O7LVeMeQ
DTSTART:20220205T113000Z
SEQUENCE:0
TRANSP:OPAQUE
DTEND:20220205T120000Z
URL:https://calendify.com/session/ky1O7LVeMeQ
LOCATION:D.mozilla
SUMMARY:\"CV Project app\": How an Android app can change the Mozilla Commo
 n Voice project
CLASS:PUBLIC
DESCRIPTION:https://calendify.com/session/ky1O7LVeMeQ
DTSTAMP:20260420T184310Z
CREATED:20220120T214603Z
LAST-MODIFIED:20220206T225002Z
END:VEVENT
END:VCALENDAR