BEGIN:VCALENDAR
VERSION:2.0
PRODID:calendify.com
BEGIN:VEVENT
UID:calendify-session-ky1O7LYjMeQ
DTSTART:20211029T100000Z
SEQUENCE:0
TRANSP:OPAQUE
DTEND:20211029T110000Z
URL:https://calendify.com/session/ky1O7LYjMeQ
LOCATION:Workshop
SUMMARY:\"Stört Dich eh nicht\, wenn ich fotografier\, gell\" — Datensch
 utz und soziale Praxis
CLASS:PUBLIC
DESCRIPTION:https://calendify.com/session/ky1O7LYjMeQ
DTSTAMP:20260424T003648Z
CREATED:20210916T064746Z
LAST-MODIFIED:20211101T215003Z
END:VEVENT
END:VCALENDAR