BEGIN:VCALENDAR
VERSION:2.0
PRODID:calendify.com
BEGIN:VEVENT
UID:calendify-session-ky1O7LZ5MeQ
DTSTART:20211227T200000Z
SEQUENCE:0
TRANSP:OPAQUE
DTEND:20211227T200500Z
URL:https://calendify.com/session/ky1O7LZ5MeQ
LOCATION:Newsstudio
SUMMARY:Verkehrsnachrichten 1.2
CLASS:PUBLIC
DESCRIPTION:https://calendify.com/session/ky1O7LZ5MeQ
DTSTAMP:20260422T110944Z
CREATED:20211226T233002Z
LAST-MODIFIED:20211228T222002Z
END:VEVENT
END:VCALENDAR