BEGIN:VCALENDAR
VERSION:2.0
PRODID:calendify.com
BEGIN:VEVENT
UID:calendify-session-ky1O7LbnMeQ
DTSTART:20211229T103000Z
SEQUENCE:0
TRANSP:OPAQUE
DTEND:20211229T111500Z
URL:https://calendify.com/session/ky1O7LbnMeQ
LOCATION:Chaosstudio Hamburg
SUMMARY:Day to Night Timelapse Photography: \"The Holy Grail\"
CLASS:PUBLIC
DESCRIPTION:https://calendify.com/session/ky1O7LbnMeQ
DTSTAMP:20260419T124427Z
CREATED:20211220T014017Z
LAST-MODIFIED:20211230T225002Z
END:VEVENT
END:VCALENDAR