BEGIN:VCALENDAR
VERSION:2.0
PRODID:calendify.com
BEGIN:VEVENT
UID:calendify-session-ky1O7LkYMeQ
DTSTART:20211227T150000Z
SEQUENCE:0
TRANSP:OPAQUE
DTEND:20211227T154000Z
URL:https://calendify.com/session/ky1O7LkYMeQ
LOCATION:franconian.net
SUMMARY:Fluchtboote mit Satelliten finden
CLASS:PUBLIC
DESCRIPTION:https://calendify.com/session/ky1O7LkYMeQ
DTSTAMP:20260420T122238Z
CREATED:20211220T014016Z
LAST-MODIFIED:20211230T225002Z
END:VEVENT
END:VCALENDAR