BEGIN:VCALENDAR
VERSION:2.0
PRODID:calendify.com
BEGIN:VEVENT
UID:calendify-session-ky1O7Ll2MeQ
DTSTART:20210308T133000Z
SEQUENCE:0
TRANSP:OPAQUE
URL:https://calendify.com/session/ky1O7Ll2MeQ
LOCATION:Art and Media
SUMMARY:Art Camp
CLASS:PUBLIC
DESCRIPTION:https://calendify.com/session/ky1O7Ll2MeQ
DTSTAMP:20260422T233826Z
CREATED:20210426T094927Z
LAST-MODIFIED:20210426T094927Z
END:VEVENT
END:VCALENDAR