BEGIN:VCALENDAR
VERSION:2.0
PRODID:calendify.com
BEGIN:VEVENT
UID:calendify-session-ky1O7Lz2MeQ
DTSTART:20210308T181500Z
SEQUENCE:0
TRANSP:OPAQUE
DTEND:20210308T191500Z
URL:https://calendify.com/session/ky1O7Lz2MeQ
LOCATION:Zoom Room 1B
SUMMARY:Openscapes Interview with Dr. Dawn Wright
CLASS:PUBLIC
DESCRIPTION:https://calendify.com/session/ky1O7Lz2MeQ
DTSTAMP:20260423T190804Z
CREATED:20210426T094926Z
LAST-MODIFIED:20210426T094926Z
END:VEVENT
END:VCALENDAR