BEGIN:VCALENDAR
VERSION:2.0
PRODID:calendify.com
BEGIN:VEVENT
UID:calendify-session-ky1O7j3V4eQ
DTSTART:20210206T083000Z
SEQUENCE:0
TRANSP:OPAQUE
DTEND:20210206T090000Z
URL:https://calendify.com/session/ky1O7j3V4eQ
LOCATION:S.pulp
SUMMARY:Welcome to the stand for Pulp
CLASS:PUBLIC
DESCRIPTION:https://calendify.com/session/ky1O7j3V4eQ
DTSTAMP:20260419T235335Z
CREATED:20210125T190821Z
LAST-MODIFIED:20210208T224803Z
END:VEVENT
END:VCALENDAR