BEGIN:VCALENDAR
VERSION:2.0
PRODID:calendify.com
BEGIN:VEVENT
UID:calendify-session-ky1O7jQV4eQ
DTSTART:20210206T153000Z
SEQUENCE:0
TRANSP:OPAQUE
DTEND:20210206T163000Z
URL:https://calendify.com/session/ky1O7jQV4eQ
LOCATION:D.collab
SUMMARY:SemApps : A (Linked-)Data Management System based on SOLID and the 
 semantic web
CLASS:PUBLIC
DESCRIPTION:https://calendify.com/session/ky1O7jQV4eQ
DTSTAMP:20260419T223506Z
CREATED:20210201T190822Z
LAST-MODIFIED:20210208T224802Z
END:VEVENT
END:VCALENDAR