BEGIN:VCALENDAR
VERSION:2.0
PRODID:calendify.com
BEGIN:VEVENT
UID:calendify-session-ky1O7jZe4eQ
DTSTART:20210206T102000Z
SEQUENCE:0
TRANSP:OPAQUE
DTEND:20210206T104000Z
URL:https://calendify.com/session/ky1O7jZe4eQ
LOCATION:S.ntop
SUMMARY:ntopng for IoT
CLASS:PUBLIC
DESCRIPTION:https://calendify.com/session/ky1O7jZe4eQ
DTSTAMP:20260420T020611Z
CREATED:20210203T140303Z
LAST-MODIFIED:20210208T224803Z
END:VEVENT
END:VCALENDAR