BEGIN:VCALENDAR
VERSION:2.0
PRODID:calendify.com
BEGIN:VEVENT
UID:calendify-session-ky1O7jzV4eQ
DTSTART:20201229T004200Z
SEQUENCE:0
TRANSP:OPAQUE
DTEND:20201229T013600Z
URL:https://calendify.com/session/ky1O7jzV4eQ
LOCATION:classics
SUMMARY:33c3 Console Hacking PS4: PC Master Race
CLASS:PUBLIC
DESCRIPTION:https://calendify.com/session/ky1O7jzV4eQ
DTSTAMP:20260420T201315Z
CREATED:20201230T143302Z
LAST-MODIFIED:20210114T154804Z
END:VEVENT
END:VCALENDAR