BEGIN:VCALENDAR
VERSION:2.0
PRODID:calendify.com
BEGIN:VEVENT
UID:calendify-session-ky1O7pLYMeQ
DTSTART:20221227T164500Z
SEQUENCE:0
TRANSP:OPAQUE
DTEND:20221227T173000Z
URL:https://calendify.com/session/ky1O7pLYMeQ
LOCATION:WICMP Seminarraum
SUMMARY:GNU Taler -- mit Krypto bezahlen ohne Blockchain?
CLASS:PUBLIC
DESCRIPTION:https://calendify.com/session/ky1O7pLYMeQ
DTSTAMP:20260424T025925Z
CREATED:20221221T105639Z
LAST-MODIFIED:20221230T225006Z
END:VEVENT
END:VCALENDAR