BEGIN:VCALENDAR
VERSION:2.0
PRODID:calendify.com
BEGIN:VEVENT
UID:calendify-session-ky1O7r784eQ
DTSTART:20180401T220000Z
SEQUENCE:0
TRANSP:OPAQUE
DTEND:20180402T000000Z
URL:https://calendify.com/session/ky1O7r784eQ
LOCATION:Heisenberg 4
SUMMARY:K - meetup
CLASS:PUBLIC
DESCRIPTION:https://calendify.com/session/ky1O7r784eQ
DTSTAMP:20260424T035419Z
CREATED:20200520T231946Z
LAST-MODIFIED:20200520T231946Z
END:VEVENT
END:VCALENDAR